BEGIN:VCALENDAR
VERSION:2.0
PRODID:-//Hangar Indy - ECPv6.15.20//NONSGML v1.0//EN
CALSCALE:GREGORIAN
METHOD:PUBLISH
X-WR-CALNAME:Hangar Indy
X-ORIGINAL-URL:https://hangarindy.com
X-WR-CALDESC:Events for Hangar Indy
REFRESH-INTERVAL;VALUE=DURATION:PT1H
X-Robots-Tag:noindex
X-PUBLISHED-TTL:PT1H
BEGIN:VTIMEZONE
TZID:America/Indiana/Indianapolis
BEGIN:DAYLIGHT
TZOFFSETFROM:-0500
TZOFFSETTO:-0400
TZNAME:EDT
DTSTART:20250309T070000
END:DAYLIGHT
BEGIN:STANDARD
TZOFFSETFROM:-0400
TZOFFSETTO:-0500
TZNAME:EST
DTSTART:20251102T060000
END:STANDARD
BEGIN:DAYLIGHT
TZOFFSETFROM:-0500
TZOFFSETTO:-0400
TZNAME:EDT
DTSTART:20260308T070000
END:DAYLIGHT
BEGIN:STANDARD
TZOFFSETFROM:-0400
TZOFFSETTO:-0500
TZNAME:EST
DTSTART:20261101T060000
END:STANDARD
BEGIN:DAYLIGHT
TZOFFSETFROM:-0500
TZOFFSETTO:-0400
TZNAME:EDT
DTSTART:20270314T070000
END:DAYLIGHT
BEGIN:STANDARD
TZOFFSETFROM:-0400
TZOFFSETTO:-0500
TZNAME:EST
DTSTART:20271107T060000
END:STANDARD
END:VTIMEZONE
BEGIN:VEVENT
DTSTART;TZID=America/Indiana/Indianapolis:20260406T200000
DTEND;TZID=America/Indiana/Indianapolis:20260406T233000
DTSTAMP:20260422T084231
CREATED:20260405T192100Z
LAST-MODIFIED:20260405T192416Z
UID:10000213-1775505600-1775518200@hangarindy.com
SUMMARY:National Championship Watch Party
DESCRIPTION:7\,500 sq feet\, massive tvs\, 2 blocks from Lucas Oil\, all your food INCLUDED and it’s only $20 \nThe best news ?  The Hangar is home to The Alumni Association of The University of Michigan Tailgate that runs from 4:30-7:30pm.  The great part about that for you if you’re trying to watch the game is our spot will basically clear out by 8pm for the watch party.  It will be the one spot downtown you can just show up and have a great space with easy entrance. \nAnd this isn’t some crappy buffet bait and switch deal.  We pride ourselves on amazing brick oven pizza\, nacho/taco bar\, salads and much more!  Read the reviews online – it’s the best value in the city… Come Hang!
URL:https://hangarindy.com/event/national-championship-watch-party/
LOCATION:The Hangar\, 501 Madison Ave\, Indianapolis\, IN\, 46225\, United States
ATTACH;FMTTYPE=image/png:https://cdn.kicksdigital.com/hangarindy.com/2026/04/Michigan-championship-watch-party-excitement.png
ORGANIZER;CN="The Hangar":MAILTO:steve@hangarindy.com
END:VEVENT
END:VCALENDAR